BEGIN:VCALENDAR
VERSION:2.0
PRODID:-//The Mowlem - ECPv6.15.17.1//NONSGML v1.0//EN
CALSCALE:GREGORIAN
METHOD:PUBLISH
X-WR-CALNAME:The Mowlem
X-ORIGINAL-URL:https://themowlem.com
X-WR-CALDESC:Events for The Mowlem
REFRESH-INTERVAL;VALUE=DURATION:PT1H
X-Robots-Tag:noindex
X-PUBLISHED-TTL:PT1H
BEGIN:VTIMEZONE
TZID:Europe/London
BEGIN:DAYLIGHT
TZOFFSETFROM:+0000
TZOFFSETTO:+0100
TZNAME:BST
DTSTART:20240331T010000
END:DAYLIGHT
BEGIN:STANDARD
TZOFFSETFROM:+0100
TZOFFSETTO:+0000
TZNAME:GMT
DTSTART:20241027T010000
END:STANDARD
BEGIN:DAYLIGHT
TZOFFSETFROM:+0000
TZOFFSETTO:+0100
TZNAME:BST
DTSTART:20250330T010000
END:DAYLIGHT
BEGIN:STANDARD
TZOFFSETFROM:+0100
TZOFFSETTO:+0000
TZNAME:GMT
DTSTART:20251026T010000
END:STANDARD
BEGIN:DAYLIGHT
TZOFFSETFROM:+0000
TZOFFSETTO:+0100
TZNAME:BST
DTSTART:20260329T010000
END:DAYLIGHT
BEGIN:STANDARD
TZOFFSETFROM:+0100
TZOFFSETTO:+0000
TZNAME:GMT
DTSTART:20261025T010000
END:STANDARD
END:VTIMEZONE
BEGIN:VEVENT
DTSTART;TZID=Europe/London:20250425T190000
DTEND;TZID=Europe/London:20250425T220000
DTSTAMP:20260420T091953
CREATED:20250217T113747Z
LAST-MODIFIED:20250310T142125Z
UID:12225-1745607600-1745618400@themowlem.com
SUMMARY:An Evening With Kate Adie - In Support of the Dorset County Hospital Emergency & Critical Care Appeal
DESCRIPTION:An Evening With Kate Adie – In Support of the Dorset County Hospital Emergency & Critical Care Appeal				\n				\n				\n				\n									Join us for a special evening with the renowned journalist and broadcaster\, Kate Adie. Get ready to hear fascinating stories and insights from her incredible career. Leading the proceedings will be Dr Will McConnell\, consultant from the Dorset County Hospital. From Tripoli to Tiananmen Square\, from Belfast to Bosnia and many frontlines in between\, Kate Adie’s reputation for uncompromising straight-talking and fearless journalism is hard earned. Kate received an OBE and the BAFTA Fellowship at the British Academy Television Awards\, plus a clutch of Honorary Degrees. She has written four books: her autobiography – The Kindness of Strangers\, Corsets to Camouflage\, Nobody’s Child and\, most recently\, Into Danger. Presenting the BBC’s flagship series\, “From Our Own Correspondent” for decades\, has maintained Adie’s insight into the world of frontline journalism and shone a light on the challenges of war reportage in the digital age. Kate is the patron of the Dorset County Hospital Charity’s Emergency & Critical Care Appeal which aims to raise £2.5 million. A portion of the profits from this event will be donated to the Dorset County Hospital Charity’s Emergency and Critical Care Appeal\, of which Kate is a patron. 								\n				\n				\n				\n					\n		\n			25 April\n\n	\n\n	  @  \n\n\n7:00 PM\n\n		\n\n\n\n	\n	  -  \n\n10:00 PM\n\n\n\n	\n				\n				\n				\n				\n									Booking Fees Apply 								\n				\n				\n				\n									\n					\n						\n									Book Now\n					\n					\n				\n								\n				\n				\n				\n					\n	« All Events\n 				\n				\n				\n				\n				\n					\n	\n				\n				\n					\n				\n				\n						\n					\n			\n						\n				\n					This event has passed. \n				\n				\n				\n				\n							\n			\n						\n		\n						\n				\n				\n						\n					\n			\n							\n		\n				\n			\n						\n				\n					\n	\n			\n			The Mowlem			\n	\n\n	\n	\n					\n			01929 422239			\n	 \n\n\n	View Organiser Website \n\n\n	\n					\n			boxoffice@themowlem.com			\n	 \n\n\n\n				\n				\n					\n		\n					\n		\n				\n						\n					\n			\n						\n				\n					\n				\n				\n	\n			\n		The Theatre			\n	\n	\n	\n\nThe Mowlem\n	\n		\n		Swanage\,\n\n	England\n\n	BH19 2AD\n\n	United Kingdom\n\n\n\n\n	+ Google Map \n\n\n	\n					\n			01929 422239			\n	 \n\n\n	\n	View Venue Website \n\n\n\n	\n\n\n\n		\n	\n				\n				\n					\n		\n					\n		\n				\n						\n					\n			\n						\n				\n					\n	\n		\n\n	\n	Add to calendar	\n		\n	\n\n		\n			\n									\n	Google Calendar\n\n									\n	iCalendar\n\n									\n	Outlook 365\n\n									\n	Outlook Live\n\n							\n		\n\n		\n	\n\n				\n				\n					\n		\n					\n		\n				\n						\n					\n			\n						\n				\n					\n	\n		\n\n				NT Live - The Importance of Being Earnest (Encore Screening)	\n\n\n		\n	\n		In Conversation with Rachel McLean and Millie Ravensworth
URL:https://themowlem.com/event/a-evening-with-kate-adie/
LOCATION:The Theatre\, The Mowlem\, Swanage\, England\, BH19 2AD\, United Kingdom
ATTACH;FMTTYPE=image/jpeg:https://themowlem.com/wp-content/uploads/2025/02/image-1.jpg
ORGANIZER;CN="The Mowlem":MAILTO:boxoffice@themowlem.com
END:VEVENT
END:VCALENDAR