BEGIN:VCALENDAR
VERSION:2.0
PRODID:-//The Mowlem - ECPv6.15.17.1//NONSGML v1.0//EN
CALSCALE:GREGORIAN
METHOD:PUBLISH
X-WR-CALNAME:The Mowlem
X-ORIGINAL-URL:https://themowlem.com
X-WR-CALDESC:Events for The Mowlem
REFRESH-INTERVAL;VALUE=DURATION:PT1H
X-Robots-Tag:noindex
X-PUBLISHED-TTL:PT1H
BEGIN:VTIMEZONE
TZID:Europe/London
BEGIN:DAYLIGHT
TZOFFSETFROM:+0000
TZOFFSETTO:+0100
TZNAME:BST
DTSTART:20250330T010000
END:DAYLIGHT
BEGIN:STANDARD
TZOFFSETFROM:+0100
TZOFFSETTO:+0000
TZNAME:GMT
DTSTART:20251026T010000
END:STANDARD
BEGIN:DAYLIGHT
TZOFFSETFROM:+0000
TZOFFSETTO:+0100
TZNAME:BST
DTSTART:20260329T010000
END:DAYLIGHT
BEGIN:STANDARD
TZOFFSETFROM:+0100
TZOFFSETTO:+0000
TZNAME:GMT
DTSTART:20261025T010000
END:STANDARD
BEGIN:DAYLIGHT
TZOFFSETFROM:+0000
TZOFFSETTO:+0100
TZNAME:BST
DTSTART:20270328T010000
END:DAYLIGHT
BEGIN:STANDARD
TZOFFSETFROM:+0100
TZOFFSETTO:+0000
TZNAME:GMT
DTSTART:20271031T010000
END:STANDARD
END:VTIMEZONE
BEGIN:VEVENT
DTSTART;TZID=Europe/London:20260515T193000
DTEND;TZID=Europe/London:20260515T220000
DTSTAMP:20260422T123545
CREATED:20260304T155137Z
LAST-MODIFIED:20260401T095110Z
UID:15941-1778873400-1778882400@themowlem.com
SUMMARY:Jazz in The Showbar - Zoë Schwarz & Rob Koral
DESCRIPTION:Jazz in The Showbar – Zoë Schwarz & Rob Koral				\n				\n				\n				\n									Zoë Schwarz and Rob Koral are well known for their popular and established band Blue Commotion\, which for over a decade has been one of the leading lights on the British Jazz and Blues scenes.  However\, they are equally at home in the more intimate duo format. Expect a mix of classic jazz\, blues\, and roots standards\, plus a carefully selected splattering of their self-penned songs\, delivered with sophistication and panache.  The communication between these two fine musicians will be evident for all to hear as one might expect after over twenty years of intense gigging together. “Eye-catching vocals meet sumptuous guitar” – Guitarist Magazine“Terrific musicians. Very nice indeed” – Paul Jones Rhythm & Blues\, BBC Radio 2“Recommended” – Jamie Cullum\, BBC Radio2“A perfect mix of head and heart”  – Ronnie Scott’s Magazine “Schwarz takes all that is good from Janis Joplin and Billie Holiday and makes it uniquely her own… together they create an edgy intimacy and bittersweet melancholy all delivered with an expert flair while still possessing the wild hair necessary for true authenticity.” – C.M. Bailey\,  All About Jazz USA zoeschwarzmusic.com 								\n				\n				\n				\n					\n		\n			15 May\n\n	\n\n	  @  \n\n\n7:30 PM\n\n		\n\n\n\n	\n	  -  \n\n10:00 PM\n\n\n\n	\n				\n				\n				\n				\n					\n	« All Events\n 				\n				\n				\n				\n				\n					\n	\n				\n				\n					\n				\n				\n						\n					\n			\n						\n				\n							\n			\n						\n		\n						\n				\n				\n						\n					\n			\n						\n				\n					\n	\n\n	Categories:	\n		Music	\n\n				\n				\n					\n		\n				\n			\n							\n		\n					\n		\n				\n				\n					\n	\n	Related Events\n\n\n	\n\n	\n	\n		\n\n		\n			\n	\n		Pop-up Bowie – Live in The Showbar	\n\n\n	23 April @ 7:30 PM - 8:45 PM \n		\n	\n\n\n	\n	\n		\n\n		\n			\n	\n		Sunset Sessions with Jai Danton – Part One: Purobeach	\n\n\n	24 April @ 7:00 PM - 9:00 PM \n		\n	\n\n\n	\n	\n		\n\n		\n			\n	\n		Swing Easy Too – Afternoon Jazz in The Showbar	\n\n\n	25 April @ 2:00 PM - 5:00 PM \n		\n	\n\n\n				\n				\n				\n						\n					\n			\n						\n				\n					\n				\n				\n	\n			\n		The Showbar			\n	\n	\n	\n\nThe Mowlem\n	\n		\n		Swanage\,\n\n	England\n\n	BH19 2AD\n\n	United Kingdom\n\n\n\n\n	+ Google Map \n\n\n	\n					\n			01929 422239			\n	 \n\n\n	\n	View Venue Website \n\n\n\n	\n\n\n\n		\n	\n				\n				\n					\n		\n					\n		\n				\n						\n					\n			\n						\n				\n					\n	\n		\n\n	\n	Add to calendar	\n		\n	\n\n		\n			\n									\n	Google Calendar\n\n									\n	iCalendar\n\n									\n	Outlook 365\n\n									\n	Outlook Live\n\n							\n		\n\n		\n	\n\n				\n				\n					\n		\n					\n		\n				\n						\n					\n			\n						\n				\n					\n	\n		\n\n				Swanage Record Club	\n\n\n		\n	\n		Dance Yourself Dizzy with Claire from Diverse City
URL:https://themowlem.com/event/jazz-in-the-showbar-zoe-schwarz-rob-koral/
LOCATION:The Showbar\, The Mowlem\, Swanage\, England\, BH19 2AD\, United Kingdom
CATEGORIES:Music
ATTACH;FMTTYPE=image/png:https://themowlem.com/wp-content/uploads/2026/03/7-1.png
END:VEVENT
END:VCALENDAR