BEGIN:VCALENDAR
VERSION:2.0
PRODID:-//The Mowlem - ECPv6.15.17.1//NONSGML v1.0//EN
CALSCALE:GREGORIAN
METHOD:PUBLISH
X-WR-CALNAME:The Mowlem
X-ORIGINAL-URL:https://themowlem.com
X-WR-CALDESC:Events for The Mowlem
REFRESH-INTERVAL;VALUE=DURATION:PT1H
X-Robots-Tag:noindex
X-PUBLISHED-TTL:PT1H
BEGIN:VTIMEZONE
TZID:Europe/London
BEGIN:DAYLIGHT
TZOFFSETFROM:+0000
TZOFFSETTO:+0100
TZNAME:BST
DTSTART:20240331T010000
END:DAYLIGHT
BEGIN:STANDARD
TZOFFSETFROM:+0100
TZOFFSETTO:+0000
TZNAME:GMT
DTSTART:20241027T010000
END:STANDARD
BEGIN:DAYLIGHT
TZOFFSETFROM:+0000
TZOFFSETTO:+0100
TZNAME:BST
DTSTART:20250330T010000
END:DAYLIGHT
BEGIN:STANDARD
TZOFFSETFROM:+0100
TZOFFSETTO:+0000
TZNAME:GMT
DTSTART:20251026T010000
END:STANDARD
BEGIN:DAYLIGHT
TZOFFSETFROM:+0000
TZOFFSETTO:+0100
TZNAME:BST
DTSTART:20260329T010000
END:DAYLIGHT
BEGIN:STANDARD
TZOFFSETFROM:+0100
TZOFFSETTO:+0000
TZNAME:GMT
DTSTART:20261025T010000
END:STANDARD
END:VTIMEZONE
BEGIN:VEVENT
DTSTART;TZID=Europe/London:20250424T190000
DTEND;TZID=Europe/London:20250424T213000
DTSTAMP:20260423T162529
CREATED:20241119T140250Z
LAST-MODIFIED:20250313T124701Z
UID:11208-1745521200-1745530200@themowlem.com
SUMMARY:NT Live - The Importance of Being Earnest (Encore Screening)
DESCRIPTION:Three-time Olivier Award-winner Sharon D Clarke is joined by Ncuti Gatwa (Doctor Who; Sex Education) in this joyful reimagining of Oscar Wilde’s most celebrated comedy.\n\nWhile assuming the role of a dutiful guardian in the country\, Jack lets loose in town under a false identity. Meanwhile\, his friend Algy adopts a similar facade. Hoping to impress two eligible ladies\, the gentlemen find themselves caught in a web of lies they must carefully navigate.\n\nMax Webster (Life of Pi) directs this hilarious story of identity\, impersonation and romance\, filmed live from the National Theatre in London.								\n				\n					\n				\n				\n						\n					\n			\n						\n				\n					\n	« All Events\n 				\n				\n				\n				\n									\n					\n						\n									Book Now\n					\n					\n				\n								\n				\n				\n				\n					\n	NT Live – The Importance of Being Earnest (Encore Screening)				\n				\n				\n				\n					\n		\n			24 April\n\n	\n\n	  @  \n\n\n7:00 PM\n\n		\n\n\n\n	\n	  -  \n\n9:30 PM\n\n\n\n	\n				\n				\n				\n				\n									Booking Fees Apply 								\n				\n				\n				\n					This event has passed. \n				\n				\n				\n				\n					\n	\n				\n				\n				\n				\n									\n					\n						\n									Book Now\n					\n					\n				\n								\n				\n				\n						\n					\n			\n						\n				\n					\n	\n	Website:	\n	https://www.ticketsource.co.uk/the-mowlem-theatre/nt-live-the-importance-of-being-earnest-encore-screening/e-zvyavj\n\n				\n				\n					\n		\n				\n			\n						\n				\n					\n	\n			\n			The Mowlem			\n	\n\n	\n	\n\n	Phone:\n					\n			01929 422239			\n	 \n\n\n	\n\n	Website:View Organiser Website \n\n\n	\n	Email:\n					\n			boxoffice@themowlem.com			\n	 \n\n\n\n				\n				\n					\n		\n					\n		\n				\n						\n					\n			\n						\n				\n					\n				\n				\n	\n			\n		The Theatre			\n	\n	\n	\n\nThe Mowlem\n	\n		\n		Swanage\,\n\n	England\n\n	BH19 2AD\n\n	United Kingdom\n\n\n\n\n	+ Google Map \n\n\n	\n					\n			01929 422239			\n	 \n\n\n	\n	View Venue Website \n\n\n\n	\n\n\n\n		\n	\n				\n				\n					\n		\n					\n		\n				\n						\n					\n			\n						\n				\n					\n	\n		\n\n	\n	Add to calendar	\n		\n	\n\n		\n			\n									\n	Google Calendar\n\n									\n	iCalendar\n\n									\n	Outlook 365\n\n									\n	Outlook Live\n\n							\n		\n\n		\n	\n\n				\n				\n					\n		\n					\n		\n				\n						\n					\n			\n						\n				\n					\n	\n		\n\n				Macbeth (12A)	\n\n\n		\n	\n		An Evening With Kate Adie - In Support of the Dorset County Hospital Emergency & Critical Care Appeal
URL:https://themowlem.com/event/nt-live-the-importance-of-being-ernest-encore-screening/
LOCATION:The Theatre\, The Mowlem\, Swanage\, England\, BH19 2AD\, United Kingdom
ATTACH;FMTTYPE=image/png:https://themowlem.com/wp-content/uploads/2024/11/The-Importance-of-being-ernest-Website.png
ORGANIZER;CN="The Mowlem":MAILTO:boxoffice@themowlem.com
END:VEVENT
END:VCALENDAR