BEGIN:VCALENDAR
VERSION:2.0
PRODID:-//The Mowlem - ECPv6.15.17.1//NONSGML v1.0//EN
CALSCALE:GREGORIAN
METHOD:PUBLISH
X-WR-CALNAME:The Mowlem
X-ORIGINAL-URL:https://themowlem.com
X-WR-CALDESC:Events for The Mowlem
REFRESH-INTERVAL;VALUE=DURATION:PT1H
X-Robots-Tag:noindex
X-PUBLISHED-TTL:PT1H
BEGIN:VTIMEZONE
TZID:Europe/London
BEGIN:DAYLIGHT
TZOFFSETFROM:+0000
TZOFFSETTO:+0100
TZNAME:BST
DTSTART:20250330T010000
END:DAYLIGHT
BEGIN:STANDARD
TZOFFSETFROM:+0100
TZOFFSETTO:+0000
TZNAME:GMT
DTSTART:20251026T010000
END:STANDARD
BEGIN:DAYLIGHT
TZOFFSETFROM:+0000
TZOFFSETTO:+0100
TZNAME:BST
DTSTART:20260329T010000
END:DAYLIGHT
BEGIN:STANDARD
TZOFFSETFROM:+0100
TZOFFSETTO:+0000
TZNAME:GMT
DTSTART:20261025T010000
END:STANDARD
BEGIN:DAYLIGHT
TZOFFSETFROM:+0000
TZOFFSETTO:+0100
TZNAME:BST
DTSTART:20270328T010000
END:DAYLIGHT
BEGIN:STANDARD
TZOFFSETFROM:+0100
TZOFFSETTO:+0000
TZNAME:GMT
DTSTART:20271031T010000
END:STANDARD
END:VTIMEZONE
BEGIN:VEVENT
DTSTART;TZID=Europe/London:20260123T193000
DTEND;TZID=Europe/London:20260123T213000
DTSTAMP:20260425T122418
CREATED:20251219T155233Z
LAST-MODIFIED:20251219T162243Z
UID:15220-1769196600-1769203800@themowlem.com
SUMMARY:Poetry in Purbeck
DESCRIPTION:Poetry in Purbeck				\n				\n				\n				\n									Eight poems read by actorsA selection of poems which you may know written by some of our greatest poets including Emily Dickinson\, Syvia Plath\, Philip Larkin\, Sara Teasdale and Carol-Ann Duffy. A local poetJo Tatchell\, who lives in Purbeck will read some of her poems and talk about what has inspired her and who her influences are. Hannah CopleyHannah is a poet and academic who was shortlisted for the prestigious 2024 T.S.Eliot Poetry Prize. She previously won the York Literary Festival Poetry Prize and the Newcastle Poetry Prize. She has published two collections of poetry; Speculum (2021) and Lapwing (2024) and is the editor of Stand Magazine and was also editor of the long-running poetry magazine\, Poetry and Audience. Hannah is a leading British poet and we are very fortunate to have her at our inaugural poetry event. Tickets £15 								\n				\n				\n				\n					\n		\n			23 January\n\n	\n\n	  @  \n\n\n7:30 PM\n\n		\n\n\n\n	\n	  -  \n\n9:30 PM\n\n\n\n	\n				\n				\n				\n				\n									Booking Fees Apply 								\n				\n				\n				\n									\n					\n						\n									Book Now\n					\n					\n				\n								\n				\n				\n				\n					\n	« All Events\n 				\n				\n				\n				\n				\n					\n	\n				\n				\n					\n				\n				\n						\n					\n			\n						\n				\n					This event has passed. \n				\n				\n				\n				\n							\n			\n						\n		\n						\n				\n				\n						\n					\n			\n							\n		\n				\n			\n							\n		\n					\n		\n				\n						\n					\n			\n						\n				\n					\n				\n				\n	\n			\n		The Studio			\n	\n	\n	\n\nThe Mowlem\n	\n		\n		Swanage\,\n\n	England\n\n	BH19 2AD\n\n	United Kingdom\n\n\n\n\n	+ Google Map \n\n\n	\n					\n			01929 422239			\n	 \n\n\n	\n	View Venue Website \n\n\n\n	\n\n\n\n		\n	\n				\n				\n					\n		\n					\n		\n				\n						\n					\n			\n						\n				\n					\n	\n		\n\n	\n	Add to calendar	\n		\n	\n\n		\n			\n									\n	Google Calendar\n\n									\n	iCalendar\n\n									\n	Outlook 365\n\n									\n	Outlook Live\n\n							\n		\n\n		\n	\n\n				\n				\n					\n		\n					\n		\n				\n						\n					\n			\n						\n				\n					\n	\n		\n\n				NT Live: Hamlet (encore screening)	\n\n\n		\n	\n		SoundCellar and Swanage Jazz Festival present Andy Panayi with Bill Mudge & Andy Chapman
URL:https://themowlem.com/event/poetry-in-purbeck/
LOCATION:The Studio\, The Mowlem\, Swanage\, England\, BH19 2AD\, United Kingdom
ATTACH;FMTTYPE=image/png:https://themowlem.com/wp-content/uploads/2025/12/poetry-in-purbeck.png
END:VEVENT
END:VCALENDAR