BEGIN:VCALENDAR
VERSION:2.0
PRODID:-//The Mowlem - ECPv6.15.17.1//NONSGML v1.0//EN
CALSCALE:GREGORIAN
METHOD:PUBLISH
X-WR-CALNAME:The Mowlem
X-ORIGINAL-URL:https://themowlem.com
X-WR-CALDESC:Events for The Mowlem
REFRESH-INTERVAL;VALUE=DURATION:PT1H
X-Robots-Tag:noindex
X-PUBLISHED-TTL:PT1H
BEGIN:VTIMEZONE
TZID:Europe/London
BEGIN:DAYLIGHT
TZOFFSETFROM:+0000
TZOFFSETTO:+0100
TZNAME:BST
DTSTART:20240331T010000
END:DAYLIGHT
BEGIN:STANDARD
TZOFFSETFROM:+0100
TZOFFSETTO:+0000
TZNAME:GMT
DTSTART:20241027T010000
END:STANDARD
BEGIN:DAYLIGHT
TZOFFSETFROM:+0000
TZOFFSETTO:+0100
TZNAME:BST
DTSTART:20250330T010000
END:DAYLIGHT
BEGIN:STANDARD
TZOFFSETFROM:+0100
TZOFFSETTO:+0000
TZNAME:GMT
DTSTART:20251026T010000
END:STANDARD
BEGIN:DAYLIGHT
TZOFFSETFROM:+0000
TZOFFSETTO:+0100
TZNAME:BST
DTSTART:20260329T010000
END:DAYLIGHT
BEGIN:STANDARD
TZOFFSETFROM:+0100
TZOFFSETTO:+0000
TZNAME:GMT
DTSTART:20261025T010000
END:STANDARD
END:VTIMEZONE
BEGIN:VEVENT
DTSTART;TZID=Europe/London:20251031T193000
DTEND;TZID=Europe/London:20251031T193000
DTSTAMP:20260423T231746
CREATED:20250908T114559Z
LAST-MODIFIED:20250930T073021Z
UID:14287-1761939000-1761939000@themowlem.com
SUMMARY:Purbeck Film Festival: Nosferatu (15)
DESCRIPTION:Purbeck Film Festival: Nosferatu (15)				\n				\n				\n				\n									We are delighted\, once again\, to be screening films as part of the Purbeck Film Festival. In the 1830s\, estate agent Thomas Hutter travels to Transylvania for a fateful meeting with Count Orlok\, a prospective client. In his absence\, Hutter’s new bride\, Ellen\, is left under the care of their friends\, Friedrich and Anna Harding. Plagued by horrific visions and an increasing sense of dread\, Ellen soon encounters an evil force that’s far beyond her control. Starring Bill Skarsgård\, Lily-Rose Depp\, Nicholas Hoult. Directed by Robert Eggers. Running time: 2hrs 12mins 29029 CURRY BUFFET AVAILABLE IN THE SHOWBAR BEFORE/AFTER** THE FILMUpgrade your night with a delicious curry buffet from the award-winning 29029 for only £15 (+ BF) in the Showbar from 6pm. You can book your buffet when you buy your cinema tickets for the ultimate treat-and-screen experience.  Must be pre-booked. Visit the Purbeck Film Festival official website here. 								\n				\n				\n				\n					\n		\n			31 October\n\n	\n\n	  @  \n\n\n7:30 PM\n\n			\n				\n				\n				\n				\n									Booking Fees Apply 								\n				\n				\n				\n									\n					\n						\n									Book Now\n					\n					\n				\n								\n				\n				\n				\n					\n	« All Events\n 				\n				\n				\n				\n				\n					\n	\n				\n				\n					\n				\n				\n						\n					\n			\n						\n				\n					This event has passed. \n				\n				\n				\n				\n							\n			\n						\n		\n						\n				\n				\n						\n					\n			\n							\n		\n				\n			\n						\n				\n					\n	\n			\n			Purbeck Film Festival			\n	\n\n	\n	\n\n	Phone:\n					\n						\n	 \n\n\n	\n\n	Website:View Organiser Website \n\n\n	\n	Email:\n					\n						\n	 \n\n\n\n				\n				\n					\n		\n					\n		\n				\n						\n					\n			\n						\n				\n					\n				\n				\n	\n			\n		The Theatre			\n	\n	\n	\n\nThe Mowlem\n	\n		\n		Swanage\,\n\n	England\n\n	BH19 2AD\n\n	United Kingdom\n\n\n\n\n	+ Google Map \n\n\n	\n					\n			01929 422239			\n	 \n\n\n	\n	View Venue Website \n\n\n\n	\n\n\n\n		\n	\n				\n				\n					\n		\n					\n		\n				\n						\n					\n			\n						\n				\n					\n	\n		\n\n	\n	Add to calendar	\n		\n	\n\n		\n			\n									\n	Google Calendar\n\n									\n	iCalendar\n\n									\n	Outlook 365\n\n									\n	Outlook Live\n\n							\n		\n\n		\n	\n\n				\n				\n					\n		\n					\n		\n				\n						\n					\n			\n						\n				\n					\n	\n		\n\n				Purbeck Film Festival: Bugonia (15)	\n\n\n		\n	\n		The Psychological Attractions of Melodrama
URL:https://themowlem.com/event/purbeck-film-festival-nosferatu-15/
LOCATION:The Theatre\, The Mowlem\, Swanage\, England\, BH19 2AD\, United Kingdom
ATTACH;FMTTYPE=image/jpeg:https://themowlem.com/wp-content/uploads/2025/09/Nosferatu_IMAX_poster_2024.jpg
END:VEVENT
END:VCALENDAR