BEGIN:VCALENDAR
VERSION:2.0
PRODID:-//The Mowlem - ECPv6.15.17.1//NONSGML v1.0//EN
CALSCALE:GREGORIAN
METHOD:PUBLISH
X-WR-CALNAME:The Mowlem
X-ORIGINAL-URL:https://themowlem.com
X-WR-CALDESC:Events for The Mowlem
REFRESH-INTERVAL;VALUE=DURATION:PT1H
X-Robots-Tag:noindex
X-PUBLISHED-TTL:PT1H
BEGIN:VTIMEZONE
TZID:Europe/London
BEGIN:DAYLIGHT
TZOFFSETFROM:+0000
TZOFFSETTO:+0100
TZNAME:BST
DTSTART:20250330T010000
END:DAYLIGHT
BEGIN:STANDARD
TZOFFSETFROM:+0100
TZOFFSETTO:+0000
TZNAME:GMT
DTSTART:20251026T010000
END:STANDARD
BEGIN:DAYLIGHT
TZOFFSETFROM:+0000
TZOFFSETTO:+0100
TZNAME:BST
DTSTART:20260329T010000
END:DAYLIGHT
BEGIN:STANDARD
TZOFFSETFROM:+0100
TZOFFSETTO:+0000
TZNAME:GMT
DTSTART:20261025T010000
END:STANDARD
BEGIN:DAYLIGHT
TZOFFSETFROM:+0000
TZOFFSETTO:+0100
TZNAME:BST
DTSTART:20270328T010000
END:DAYLIGHT
BEGIN:STANDARD
TZOFFSETFROM:+0100
TZOFFSETTO:+0000
TZNAME:GMT
DTSTART:20271031T010000
END:STANDARD
END:VTIMEZONE
BEGIN:VEVENT
DTSTART;TZID=Europe/London:20260314T193000
DTEND;TZID=Europe/London:20260314T220000
DTSTAMP:20260425T111844
CREATED:20260102T155835Z
LAST-MODIFIED:20260102T160132Z
UID:15319-1773516600-1773525600@themowlem.com
SUMMARY:SoundCellar & Swanage Jazz Festival present Nigel Price and Neil Burns
DESCRIPTION:SoundCellar & Swanage Jazz Festival present Nigel Price and Neil Burns				\n				\n				\n				\n									Award-winning jazz guitarist NIGEL PRICE\, whose credits include Van Morrison and Alan Barnes\, teams up with fellow guitarist NEIL BURNS. This dynamic duo performs bebop\, timeless standards\, and infectious Latin grooves. Nigel Price is one of the UK’s most respected and hard-working jazz guitarists\, celebrated for his fluent bebop lines\, deep blues sensibility and masterful chording. Over a career spanning more than 25 years\, he has become a central figure on the British jazz scene\, regularly appearing at Ronnie Scott’s Jazz Club with over 600 performances to his name. Starting his professional journey in his early 20s\, Price toured Europe with reggae and funk bands before focusing on jazz. \nHe has played on more than 60 albums\, including several as a leader\, and spent a decade with acid jazz outfit The Filthy Six. He also spent three years with the James Taylor Quartet\, contributing to five albums\, and has performed with legendary producer and artist David Axelrod. Price has received numerous accolades\, including a Parliamentary Jazz Award and a British Jazz Award for Best Guitarist. In recent years he has organised extensive UK tours and founded the charity Grassroots Jazz to support live jazz venues. \nScottish guitarist Neil Burns has been immersed in the South West jazz scene for many years. He has performed throughout Europe and is a regular collaborator with leading trumpeter Steve Waterman\, guitar legend Jim Mullen and vibraphonist Roger Beaujolais. He has also worked with artists including Jacqui Dankworth\, Zoe Rahman\, Simon Spillett\, Dave Newton\, Mark Bassey\, Bobby Wellins\, Greg Abate and The Haggis Horns\, to name just a few. A highly melodic guitarist\, Burns is deeply steeped in the jazz guitar tradition. \nNigel Price: guitarNeil Burns: guitar Tiockets £15 incl booking fee 								\n				\n				\n				\n					\n		\n			14 March\n\n	\n\n	  @  \n\n\n7:30 PM\n\n		\n\n\n\n	\n	  -  \n\n10:00 PM\n\n\n\n	\n				\n				\n				\n				\n									Booking Fees Apply 								\n				\n				\n				\n									\n					\n						\n									Book Now\n					\n					\n				\n								\n				\n				\n				\n					\n	« All Events\n 				\n				\n				\n				\n				\n					\n	\n				\n				\n					\n				\n				\n						\n					\n			\n						\n				\n					This event has passed. \n				\n				\n				\n				\n							\n			\n						\n		\n						\n				\n				\n						\n					\n			\n							\n		\n				\n			\n							\n		\n					\n		\n				\n						\n					\n			\n						\n				\n					\n				\n				\n	\n			\n		The Studio			\n	\n	\n	\n\nThe Mowlem\n	\n		\n		Swanage\,\n\n	England\n\n	BH19 2AD\n\n	United Kingdom\n\n\n\n\n	+ Google Map \n\n\n	\n					\n			01929 422239			\n	 \n\n\n	\n	View Venue Website \n\n\n\n	\n\n\n\n		\n	\n				\n				\n					\n		\n					\n		\n				\n						\n					\n			\n						\n				\n					\n	\n		\n\n	\n	Add to calendar	\n		\n	\n\n		\n			\n									\n	Google Calendar\n\n									\n	iCalendar\n\n									\n	Outlook 365\n\n									\n	Outlook Live\n\n							\n		\n\n		\n	\n\n				\n				\n					\n		\n					\n		\n				\n						\n					\n			\n						\n				\n					\n	\n		\n\n				One Battle After Another (15)	\n\n\n		\n	\n		Stolen Ram (16+)
URL:https://themowlem.com/event/soundcellar-swanage-jazz-festival-present-nigel-price-and-neil-burns/
LOCATION:The Studio\, The Mowlem\, Swanage\, England\, BH19 2AD\, United Kingdom
ATTACH;FMTTYPE=image/png:https://themowlem.com/wp-content/uploads/2026/01/NIGEL-PRICE.png
END:VEVENT
END:VCALENDAR