BEGIN:VCALENDAR
VERSION:2.0
PRODID:-//The Mowlem - ECPv6.15.17.1//NONSGML v1.0//EN
CALSCALE:GREGORIAN
METHOD:PUBLISH
X-WR-CALNAME:The Mowlem
X-ORIGINAL-URL:https://themowlem.com
X-WR-CALDESC:Events for The Mowlem
REFRESH-INTERVAL;VALUE=DURATION:PT1H
X-Robots-Tag:noindex
X-PUBLISHED-TTL:PT1H
BEGIN:VTIMEZONE
TZID:Europe/London
BEGIN:DAYLIGHT
TZOFFSETFROM:+0000
TZOFFSETTO:+0100
TZNAME:BST
DTSTART:20250330T010000
END:DAYLIGHT
BEGIN:STANDARD
TZOFFSETFROM:+0100
TZOFFSETTO:+0000
TZNAME:GMT
DTSTART:20251026T010000
END:STANDARD
BEGIN:DAYLIGHT
TZOFFSETFROM:+0000
TZOFFSETTO:+0100
TZNAME:BST
DTSTART:20260329T010000
END:DAYLIGHT
BEGIN:STANDARD
TZOFFSETFROM:+0100
TZOFFSETTO:+0000
TZNAME:GMT
DTSTART:20261025T010000
END:STANDARD
BEGIN:DAYLIGHT
TZOFFSETFROM:+0000
TZOFFSETTO:+0100
TZNAME:BST
DTSTART:20270328T010000
END:DAYLIGHT
BEGIN:STANDARD
TZOFFSETFROM:+0100
TZOFFSETTO:+0000
TZNAME:GMT
DTSTART:20271031T010000
END:STANDARD
END:VTIMEZONE
BEGIN:VEVENT
DTSTART;TZID=Europe/London:20260404T193000
DTEND;TZID=Europe/London:20260404T220000
DTSTAMP:20260422T140316
CREATED:20260102T162414Z
LAST-MODIFIED:20260401T094110Z
UID:15325-1775331000-1775340000@themowlem.com
SUMMARY:SoundCellar & Swanage Jazz Festival present Ursula Harrison & Sylvie Noble
DESCRIPTION:SoundCellar & Swanage Jazz Festival present Ursula Harrison & Sylvie Noble				\n				\n				\n				\n									2024 BBC Young Jazz Musician of the Year\, bassist URSULA HARRISON\, together with rising star vocalist SYLVIE NOBLE bring their intimate and exploratory contemporary jazz/folk to Swanage. Sylvie and Ursula (who played a memorable gig at SoundCellar Poole in 2024\, alongside SoundCellar Mowlem jazz legend Eddie Gripper)\, first met on the vibrant South-Wales jazz scene\, bonding over a shared love of both jazz and folk music. Recording their debut album ‘New Eve’ in summer 2025\, the subsequent year has seen them embrace a collective approach to story telling\, both bringing original compositions and lyrics to the project. Their sound combines deep\, earthy grooves\, light dancing melodies and powerful swing. The duo incorporates a fearless approach to improvisation in all they make\, with each live performance a true conversation. ‘Harrison and Noble totally blew everybody away with the quality of their singing and playing\, the intimacy and maturity of the performance\, their almost telepathic rapport – and perhaps most significantly the quality of the original songs’ – The JazzMann (Black Mountain Jazz\, 2025) ‘Sylvie and Ursula’s forthcoming album should be a 2026 highlight’ – Jon Turney\, UK Jazz News Sylvie Noble: VocalsUrsula Harrison: Bass Tickets £15 including booking fee 								\n				\n				\n				\n					\n		\n			4 April\n\n	\n\n	  @  \n\n\n7:30 PM\n\n		\n\n\n\n	\n	  -  \n\n10:00 PM\n\n\n\n	\n				\n				\n				\n				\n									Booking Fees Apply 								\n				\n				\n				\n									\n					\n						\n									Book Now\n					\n					\n				\n								\n				\n				\n				\n					\n	« All Events\n 				\n				\n				\n				\n				\n					\n	\n				\n				\n					\n				\n				\n						\n					\n			\n						\n				\n					This event has passed. \n				\n				\n				\n				\n							\n			\n						\n		\n						\n				\n				\n						\n					\n			\n						\n				\n					\n	\n\n	Categories:	\n		Music	\n\n				\n				\n					\n		\n				\n			\n							\n		\n					\n		\n				\n				\n					\n	\n	Related Events\n\n\n	\n\n	\n	\n		\n\n		\n			\n	\n		Pop-up Bowie – Live in The Showbar	\n\n\n	23 April @ 7:30 PM - 8:45 PM \n		\n	\n\n\n	\n	\n		\n\n		\n			\n	\n		Sunset Sessions with Jai Danton – Part One: Purobeach	\n\n\n	24 April @ 7:00 PM - 9:00 PM \n		\n	\n\n\n	\n	\n		\n\n		\n			\n	\n		Swing Easy Too – Afternoon Jazz in The Showbar	\n\n\n	25 April @ 2:00 PM - 5:00 PM \n		\n	\n\n\n				\n				\n				\n						\n					\n			\n						\n				\n					\n				\n				\n	\n			\n		The Studio			\n	\n	\n	\n\nThe Mowlem\n	\n		\n		Swanage\,\n\n	England\n\n	BH19 2AD\n\n	United Kingdom\n\n\n\n\n	+ Google Map \n\n\n	\n					\n			01929 422239			\n	 \n\n\n	\n	View Venue Website \n\n\n\n	\n\n\n\n		\n	\n				\n				\n					\n		\n					\n		\n				\n						\n					\n			\n						\n				\n					\n	\n		\n\n	\n	Add to calendar	\n		\n	\n\n		\n			\n									\n	Google Calendar\n\n									\n	iCalendar\n\n									\n	Outlook 365\n\n									\n	Outlook Live\n\n							\n		\n\n		\n	\n\n				\n				\n					\n		\n					\n		\n				\n						\n					\n			\n						\n				\n					\n	\n		\n\n				Crime 101 (15)	\n\n\n		\n	\n		The Pent Up House Trio – Live Jazz in The Showbar
URL:https://themowlem.com/event/soundcellar-swanage-jazz-festival-present-ursula-harrison-sylvie-noble/
LOCATION:The Studio\, The Mowlem\, Swanage\, England\, BH19 2AD\, United Kingdom
CATEGORIES:Music
ATTACH;FMTTYPE=image/png:https://themowlem.com/wp-content/uploads/2026/01/ursula-sylvie.png
END:VEVENT
END:VCALENDAR