BEGIN:VCALENDAR
VERSION:2.0
PRODID:-//The Mowlem - ECPv6.15.17.1//NONSGML v1.0//EN
CALSCALE:GREGORIAN
METHOD:PUBLISH
X-WR-CALNAME:The Mowlem
X-ORIGINAL-URL:https://themowlem.com
X-WR-CALDESC:Events for The Mowlem
REFRESH-INTERVAL;VALUE=DURATION:PT1H
X-Robots-Tag:noindex
X-PUBLISHED-TTL:PT1H
BEGIN:VTIMEZONE
TZID:Europe/London
BEGIN:DAYLIGHT
TZOFFSETFROM:+0000
TZOFFSETTO:+0100
TZNAME:BST
DTSTART:20240331T010000
END:DAYLIGHT
BEGIN:STANDARD
TZOFFSETFROM:+0100
TZOFFSETTO:+0000
TZNAME:GMT
DTSTART:20241027T010000
END:STANDARD
BEGIN:DAYLIGHT
TZOFFSETFROM:+0000
TZOFFSETTO:+0100
TZNAME:BST
DTSTART:20250330T010000
END:DAYLIGHT
BEGIN:STANDARD
TZOFFSETFROM:+0100
TZOFFSETTO:+0000
TZNAME:GMT
DTSTART:20251026T010000
END:STANDARD
BEGIN:DAYLIGHT
TZOFFSETFROM:+0000
TZOFFSETTO:+0100
TZNAME:BST
DTSTART:20260329T010000
END:DAYLIGHT
BEGIN:STANDARD
TZOFFSETFROM:+0100
TZOFFSETTO:+0000
TZNAME:GMT
DTSTART:20261025T010000
END:STANDARD
END:VTIMEZONE
BEGIN:VEVENT
DTSTART;TZID=Europe/London:20250804T193000
DTEND;TZID=Europe/London:20250804T220000
DTSTAMP:20260425T183252
CREATED:20250207T110022Z
LAST-MODIFIED:20250801T121531Z
UID:11555-1754335800-1754344800@themowlem.com
SUMMARY:Summer of Music 25 - Supersonic Queen
DESCRIPTION:Summer of Music 25 – Supersonic Queen				\n				\n				\n				\n									Regarded as one of the UK’s premier queen tribute bands\, Supersonic Queen bring all the spirit and majesty of Queen to audiences all over the UK.Performing in UK and International theatres and festivals\, Supersonic Queen have been touring for over a decade and are known for their uniquely dynamic recreation of Queen’s iconic live performances. With an unparalleled energy and charisma this totally live 5-piece band deliver the best Queen tribute you’ll see today. Supersonic Queen are the band that everybody wants to see – they have garnered glowing praise from audiences of all ages and die-hard queen fans alike. With a growing army of fans\, Supersonic Queen are non-stop this year performing in some of the best music venues\, theatres and festivals in the UK and internationally\, and have supported some of the most well-known big-name acts in the industry. Supersonic Queen’s Freddie Mercury\, Phil Copping\, is as good a Freddie as you will find anywhere in the world – he has spent years honing Freddie’s moves\, mannerisms\, vocal tone and phrasing – and more essentially channelling his irrepressible sense of fun! This consummate showman and the world-class musicians that make up the Supersonic Queen experience\, put on a show that feels like you’re at a Queen concert reliving the amazing rock and roll legacy that Queen created. So\, take a trip back in time to experience the magic and excitement of a live Queen concert with Supersonic Queen: an action-packed show that it is truly ‘guaranteed to blow your mind’!  								\n				\n				\n				\n					\n		\n			4 August\n\n	\n\n	  @  \n\n\n7:30 PM\n\n		\n\n\n\n	\n	  -  \n\n10:00 PM\n\n\n\n	\n				\n				\n				\n				\n									Booking Fees Apply 								\n				\n				\n				\n									\n					\n						\n									Book Now\n					\n					\n				\n								\n				\n				\n				\n					\n	« All Events\n 				\n				\n				\n				\n				\n					\n	\n				\n				\n					\n				\n				\n						\n					\n			\n						\n				\n					This event has passed. \n				\n				\n				\n				\n							\n			\n						\n		\n						\n				\n				\n						\n					\n			\n							\n		\n				\n			\n						\n				\n					\n	\n			\n			The Mowlem			\n	\n\n	\n	\n\n	Phone:\n					\n			01929 422239			\n	 \n\n\n	\n\n	Website:View Organiser Website \n\n\n	\n	Email:\n					\n			boxoffice@themowlem.com			\n	 \n\n\n\n				\n				\n					\n		\n					\n		\n				\n						\n					\n			\n						\n				\n					\n				\n				\n	\n			\n		The Theatre			\n	\n	\n	\n\nThe Mowlem\n	\n		\n		Swanage\,\n\n	England\n\n	BH19 2AD\n\n	United Kingdom\n\n\n\n\n	+ Google Map \n\n\n	\n					\n			01929 422239			\n	 \n\n\n	\n	View Venue Website \n\n\n\n	\n\n\n\n		\n	\n				\n				\n					\n		\n					\n		\n				\n						\n					\n			\n						\n				\n					\n	\n		\n\n	\n	Add to calendar	\n		\n	\n\n		\n			\n									\n	Google Calendar\n\n									\n	iCalendar\n\n									\n	Outlook 365\n\n									\n	Outlook Live\n\n							\n		\n\n		\n	\n\n				\n				\n					\n		\n					\n		\n				\n						\n					\n			\n						\n				\n					\n	\n		\n\n				Jurassic World Rebirth (12A)	\n\n\n		\n	\n		Summer of Music 25 - Abba Stars UK
URL:https://themowlem.com/event/summer-of-music-25-supersonic-queen/
LOCATION:The Theatre\, The Mowlem\, Swanage\, England\, BH19 2AD\, United Kingdom
ATTACH;FMTTYPE=image/jpeg:https://themowlem.com/wp-content/uploads/2024/12/Queen-image-scaled.jpeg
ORGANIZER;CN="The Mowlem":MAILTO:boxoffice@themowlem.com
END:VEVENT
END:VCALENDAR