BEGIN:VCALENDAR
VERSION:2.0
PRODID:-//The Mowlem - ECPv6.15.17.1//NONSGML v1.0//EN
CALSCALE:GREGORIAN
METHOD:PUBLISH
X-WR-CALNAME:The Mowlem
X-ORIGINAL-URL:https://themowlem.com
X-WR-CALDESC:Events for The Mowlem
REFRESH-INTERVAL;VALUE=DURATION:PT1H
X-Robots-Tag:noindex
X-PUBLISHED-TTL:PT1H
BEGIN:VTIMEZONE
TZID:Europe/London
BEGIN:DAYLIGHT
TZOFFSETFROM:+0000
TZOFFSETTO:+0100
TZNAME:BST
DTSTART:20250330T010000
END:DAYLIGHT
BEGIN:STANDARD
TZOFFSETFROM:+0100
TZOFFSETTO:+0000
TZNAME:GMT
DTSTART:20251026T010000
END:STANDARD
BEGIN:DAYLIGHT
TZOFFSETFROM:+0000
TZOFFSETTO:+0100
TZNAME:BST
DTSTART:20260329T010000
END:DAYLIGHT
BEGIN:STANDARD
TZOFFSETFROM:+0100
TZOFFSETTO:+0000
TZNAME:GMT
DTSTART:20261025T010000
END:STANDARD
BEGIN:DAYLIGHT
TZOFFSETFROM:+0000
TZOFFSETTO:+0100
TZNAME:BST
DTSTART:20270328T010000
END:DAYLIGHT
BEGIN:STANDARD
TZOFFSETFROM:+0100
TZOFFSETTO:+0000
TZNAME:GMT
DTSTART:20271031T010000
END:STANDARD
END:VTIMEZONE
BEGIN:VEVENT
DTSTART;TZID=Europe/London:20260618T183000
DTEND;TZID=Europe/London:20260618T213000
DTSTAMP:20260423T093518
CREATED:20251223T151243Z
LAST-MODIFIED:20260410T093848Z
UID:15235-1781807400-1781818200@themowlem.com
SUMMARY:Swanage Record Club
DESCRIPTION:Swanage Record Club				\n				\n				\n				\n									Join Swanage Record Club in The Showbar to listen to curated selections of music on vinyl and CD. Paul curates June’s theme of Cities – enjoy the view of dusk over the bay while we take you to the crowded\, gritty city by way of two carefully selected LPs… Full albums and good conversation.Curated themes. Listen and chat.No expertise required – just curiosity and a love of music. Starts at 6.30pm (first album introduced at 7.30pm). Join the chat on Swanage Record Club’s Facebook page! FREE EVENT 								\n				\n				\n				\n					\n		\n			18 June\n\n	\n\n	  @  \n\n\n6:30 PM\n\n		\n\n\n\n	\n	  -  \n\n9:30 PM\n\n\n\n	\n				\n				\n				\n				\n					\n	« All Events\n 				\n				\n				\n				\n				\n					\n	\n				\n				\n					\n				\n				\n						\n					\n			\n						\n				\n							\n			\n						\n		\n						\n				\n				\n						\n					\n			\n						\n				\n					\n	\n\n	Categories:	\n		Community	\n\n				\n				\n					\n		\n				\n			\n							\n		\n					\n		\n				\n				\n					\n	\n	Related Events\n\n\n	\n\n	\n	\n		\n\n		\n			\n	\n		Purbeck Disco Party Night	\n\n\n	24 April @ 6:30 PM - 9:30 PM\n\n	\n		\n\n	\n	\n	\n\n	\n\n \n		\n	\n\n\n	\n	\n		\n\n		\n			\n	\n		Poetry in Purbeck	\n\n\n	6 May @ 7:30 PM - 10:00 PM \n		\n	\n\n\n	\n	\n		\n\n		\n			\n	\n		Swanage Record Club	\n\n\n	14 May @ 6:30 PM - 9:30 PM \n		\n	\n\n\n				\n				\n				\n						\n					\n			\n						\n				\n					\n				\n				\n	\n			\n		The Showbar			\n	\n	\n	\n\nThe Mowlem\n	\n		\n		Swanage\,\n\n	England\n\n	BH19 2AD\n\n	United Kingdom\n\n\n\n\n	+ Google Map \n\n\n	\n					\n			01929 422239			\n	 \n\n\n	\n	View Venue Website \n\n\n\n	\n\n\n\n		\n	\n				\n				\n					\n		\n					\n		\n				\n						\n					\n			\n						\n				\n					\n	\n		\n\n	\n	Add to calendar	\n		\n	\n\n		\n			\n									\n	Google Calendar\n\n									\n	iCalendar\n\n									\n	Outlook 365\n\n									\n	Outlook Live\n\n							\n		\n\n		\n	\n\n				\n				\n					\n		\n					\n		\n				\n						\n					\n			\n						\n				\n					\n	\n		\n\n				The Mowlem Comedy Club (14+)	\n\n\n		\n	\n		Jazz in The Showbar - Sarah Bolter & Rob Palmer
URL:https://themowlem.com/event/swanage-record-club-15/
LOCATION:The Showbar\, The Mowlem\, Swanage\, England\, BH19 2AD\, United Kingdom
CATEGORIES:Community
ATTACH;FMTTYPE=image/jpeg:https://themowlem.com/wp-content/uploads/2025/12/WhatsApp-Image-2026-04-07-at-12.28.53.jpeg
END:VEVENT
END:VCALENDAR