BEGIN:VCALENDAR
VERSION:2.0
PRODID:-//The Mowlem - ECPv6.15.17.1//NONSGML v1.0//EN
CALSCALE:GREGORIAN
METHOD:PUBLISH
X-WR-CALNAME:The Mowlem
X-ORIGINAL-URL:https://themowlem.com
X-WR-CALDESC:Events for The Mowlem
REFRESH-INTERVAL;VALUE=DURATION:PT1H
X-Robots-Tag:noindex
X-PUBLISHED-TTL:PT1H
BEGIN:VTIMEZONE
TZID:Europe/London
BEGIN:DAYLIGHT
TZOFFSETFROM:+0000
TZOFFSETTO:+0100
TZNAME:BST
DTSTART:20240331T010000
END:DAYLIGHT
BEGIN:STANDARD
TZOFFSETFROM:+0100
TZOFFSETTO:+0000
TZNAME:GMT
DTSTART:20241027T010000
END:STANDARD
BEGIN:DAYLIGHT
TZOFFSETFROM:+0000
TZOFFSETTO:+0100
TZNAME:BST
DTSTART:20250330T010000
END:DAYLIGHT
BEGIN:STANDARD
TZOFFSETFROM:+0100
TZOFFSETTO:+0000
TZNAME:GMT
DTSTART:20251026T010000
END:STANDARD
BEGIN:DAYLIGHT
TZOFFSETFROM:+0000
TZOFFSETTO:+0100
TZNAME:BST
DTSTART:20260329T010000
END:DAYLIGHT
BEGIN:STANDARD
TZOFFSETFROM:+0100
TZOFFSETTO:+0000
TZNAME:GMT
DTSTART:20261025T010000
END:STANDARD
END:VTIMEZONE
BEGIN:VEVENT
DTSTART;TZID=Europe/London:20251129T153000
DTEND;TZID=Europe/London:20251129T163000
DTSTAMP:20260423T220140
CREATED:20251110T110147Z
LAST-MODIFIED:20251111T100159Z
UID:14859-1764430200-1764433800@themowlem.com
SUMMARY:The Elves and The Shoemaker
DESCRIPTION:The Elves and The Shoemaker				\n				\n				\n				\n									Don’t miss the magic of The Elves and the Shoemaker this festive season!  The award-winning Dot Collective\, known for Alice’s Adventures in Aerialand and this 2025’s aerial circus show Catch of the Day combine forces with Open Bar Theatre (A Christmas Carol\, Shakespeare in Fullers Pubs)\, to bring this family show full of music\, laughter\, and cracker-pulling fun. So step into your festive shoes and join the fun — it’s the perfect treat for all ages this season!  Written in 1806 by the Brother’s Grimm the tale follows a failing shoemaker at Christmas time\, and the mysterious occurrences that take place. In true The Dot Collective style\, this show is created with accessibility at its core\, it’s family friendly\, engaging and full of laughs. A heartwarming retelling of this classic story\, featuring music\, puppetry\, plenty of audience interaction and\, of course\, barrels of Christmas cheer. We can’t wait to see you there!  Suitable for all everyone | child friendly | dementia friendly | accessible sensory theatre (Social story and additional information available upon request)Running time: 60 mins Pay what you feel – suggested donation £10 								\n				\n				\n				\n					\n		\n			29 November\n\n	\n\n	  @  \n\n\n3:30 PM\n\n		\n\n\n\n	\n	  -  \n\n4:30 PM\n\n\n\n	\n				\n				\n				\n				\n									Booking Fees Apply 								\n				\n				\n				\n									\n					\n						\n									Book Now\n					\n					\n				\n								\n				\n				\n				\n					\n	« All Events\n 				\n				\n				\n				\n				\n					\n	\n				\n				\n					\n				\n				\n						\n					\n			\n						\n				\n					This event has passed. \n				\n				\n				\n				\n							\n			\n						\n		\n						\n				\n				\n						\n					\n			\n							\n		\n				\n			\n						\n				\n					\n	\n			\n			The Mowlem			\n	\n\n	\n	\n\n	Phone:\n					\n			01929 422239			\n	 \n\n\n	\n\n	Website:View Organiser Website \n\n\n	\n	Email:\n					\n			boxoffice@themowlem.com			\n	 \n\n\n\n				\n				\n					\n		\n					\n		\n				\n						\n					\n			\n						\n				\n					\n				\n				\n	\n			\n		The Studio			\n	\n	\n	\n\nThe Mowlem\n	\n		\n		Swanage\,\n\n	England\n\n	BH19 2AD\n\n	United Kingdom\n\n\n\n\n	+ Google Map \n\n\n	\n					\n			01929 422239			\n	 \n\n\n	\n	View Venue Website \n\n\n\n	\n\n\n\n		\n	\n				\n				\n					\n		\n					\n		\n				\n						\n					\n			\n						\n				\n					\n	\n		\n\n	\n	Add to calendar	\n		\n	\n\n		\n			\n									\n	Google Calendar\n\n									\n	iCalendar\n\n									\n	Outlook 365\n\n									\n	Outlook Live\n\n							\n		\n\n		\n	\n\n				\n				\n					\n		\n					\n		\n				\n						\n					\n			\n						\n				\n					\n	\n		\n\n				Art Club: Paper Dreams and Collage	\n\n\n		\n	\n		The Big Christmas Assembly 2025
URL:https://themowlem.com/event/the-elves-and-the-shoemaker/
LOCATION:The Studio\, The Mowlem\, Swanage\, England\, BH19 2AD\, United Kingdom
ATTACH;FMTTYPE=image/jpeg:https://themowlem.com/wp-content/uploads/2025/11/Elves-and-the-shoemaker-scaled.jpg
ORGANIZER;CN="The Mowlem":MAILTO:boxoffice@themowlem.com
END:VEVENT
END:VCALENDAR