BEGIN:VCALENDAR
VERSION:2.0
PRODID:-//The Mowlem - ECPv6.15.17.1//NONSGML v1.0//EN
CALSCALE:GREGORIAN
METHOD:PUBLISH
X-WR-CALNAME:The Mowlem
X-ORIGINAL-URL:https://themowlem.com
X-WR-CALDESC:Events for The Mowlem
REFRESH-INTERVAL;VALUE=DURATION:PT1H
X-Robots-Tag:noindex
X-PUBLISHED-TTL:PT1H
BEGIN:VTIMEZONE
TZID:Europe/London
BEGIN:DAYLIGHT
TZOFFSETFROM:+0000
TZOFFSETTO:+0100
TZNAME:BST
DTSTART:20240331T010000
END:DAYLIGHT
BEGIN:STANDARD
TZOFFSETFROM:+0100
TZOFFSETTO:+0000
TZNAME:GMT
DTSTART:20241027T010000
END:STANDARD
BEGIN:DAYLIGHT
TZOFFSETFROM:+0000
TZOFFSETTO:+0100
TZNAME:BST
DTSTART:20250330T010000
END:DAYLIGHT
BEGIN:STANDARD
TZOFFSETFROM:+0100
TZOFFSETTO:+0000
TZNAME:GMT
DTSTART:20251026T010000
END:STANDARD
BEGIN:DAYLIGHT
TZOFFSETFROM:+0000
TZOFFSETTO:+0100
TZNAME:BST
DTSTART:20260329T010000
END:DAYLIGHT
BEGIN:STANDARD
TZOFFSETFROM:+0100
TZOFFSETTO:+0000
TZNAME:GMT
DTSTART:20261025T010000
END:STANDARD
END:VTIMEZONE
BEGIN:VEVENT
DTSTART;TZID=Europe/London:20250122T193000
DTEND;TZID=Europe/London:20250122T220000
DTSTAMP:20260422T122629
CREATED:20241115T104121Z
LAST-MODIFIED:20241223T171111Z
UID:11158-1737574200-1737583200@themowlem.com
SUMMARY:The Mowlem Comedy Club - January
DESCRIPTION:Event Series:	\n\n	\n		\n			The Mowlem Comedy Club		\n	\n\n\n	The Mowlem Comedy Club – January				\n				\n				\n				\n									Off The Kerb Productions Present: The Mowlem Comedy Club  								\n				\n				\n				\n					\n		\n			22 January\n\n	\n\n	  @  \n\n\n7:30 PM\n\n		\n\n\n\n	\n	  -  \n\n10:00 PM\n\n\n\n	\n				\n				\n				\n				\n					\n£12 				\n				\n				\n				\n									Booking Fees Apply 								\n				\n				\n				\n									\n					\n						\n									Book Now\n					\n					\n				\n								\n				\n				\n				\n					\n	« All Events\n 				\n				\n				\n				\n				\n					\n	\n				\n				\n					\n				\n				\n						\n					\n			\n						\n				\n					This event has passed. \n				\n				\n				\n				\n							\n			\n						\n		\n						\n				\n				\n						\n					\n			\n						\n				\n					\n	\n	Website:	\n	https://www.ticketsource.co.uk/the-mowlem-theatre/the-mowlem-comedy-club-14/e-xjrqep\n\n				\n				\n					\n		\n				\n			\n						\n				\n					\n	\n			\n			The Mowlem			\n	\n\n	\n	\n\n	Phone:\n					\n			01929 422239			\n	 \n\n\n	\n\n	Website:View Organiser Website \n\n\n	\n	Email:\n					\n			boxoffice@themowlem.com			\n	 \n\n\n\n				\n				\n					\n		\n					\n		\n				\n						\n					\n			\n						\n				\n					\n				\n				\n	\n			\n		The Studio			\n	\n	\n	\n\nThe Mowlem\n	\n		\n		Swanage\,\n\n	England\n\n	BH19 2AD\n\n	United Kingdom\n\n\n\n\n	+ Google Map \n\n\n	\n					\n			01929 422239			\n	 \n\n\n	\n	View Venue Website \n\n\n\n	\n\n\n\n		\n	\n				\n				\n					\n		\n					\n		\n				\n						\n					\n			\n						\n				\n					\n	\n		\n\n	\n	Add to calendar	\n		\n	\n\n		\n			\n									\n	Google Calendar\n\n									\n	iCalendar\n\n									\n	Outlook 365\n\n									\n	Outlook Live\n\n							\n		\n\n		\n	\n\n				\n				\n					\n		\n					\n		\n				\n						\n					\n			\n						\n				\n					\n	\n		\n\n				Juror #2 (12A)	\n\n\n		\n	\n		We Live In Time (15)
URL:https://themowlem.com/event/the-mowlem-comedy-club-january/
LOCATION:The Studio\, The Mowlem\, Swanage\, England\, BH19 2AD\, United Kingdom
ATTACH;FMTTYPE=image/jpeg:https://themowlem.com/wp-content/uploads/2024/11/New-Project-3.jpg
ORGANIZER;CN="The Mowlem":MAILTO:boxoffice@themowlem.com
END:VEVENT
END:VCALENDAR