BEGIN:VCALENDAR
VERSION:2.0
PRODID:-//The Mowlem - ECPv6.15.17.1//NONSGML v1.0//EN
CALSCALE:GREGORIAN
METHOD:PUBLISH
X-WR-CALNAME:The Mowlem
X-ORIGINAL-URL:https://themowlem.com
X-WR-CALDESC:Events for The Mowlem
REFRESH-INTERVAL;VALUE=DURATION:PT1H
X-Robots-Tag:noindex
X-PUBLISHED-TTL:PT1H
BEGIN:VTIMEZONE
TZID:Europe/London
BEGIN:DAYLIGHT
TZOFFSETFROM:+0000
TZOFFSETTO:+0100
TZNAME:BST
DTSTART:20250330T010000
END:DAYLIGHT
BEGIN:STANDARD
TZOFFSETFROM:+0100
TZOFFSETTO:+0000
TZNAME:GMT
DTSTART:20251026T010000
END:STANDARD
BEGIN:DAYLIGHT
TZOFFSETFROM:+0000
TZOFFSETTO:+0100
TZNAME:BST
DTSTART:20260329T010000
END:DAYLIGHT
BEGIN:STANDARD
TZOFFSETFROM:+0100
TZOFFSETTO:+0000
TZNAME:GMT
DTSTART:20261025T010000
END:STANDARD
BEGIN:DAYLIGHT
TZOFFSETFROM:+0000
TZOFFSETTO:+0100
TZNAME:BST
DTSTART:20270328T010000
END:DAYLIGHT
BEGIN:STANDARD
TZOFFSETFROM:+0100
TZOFFSETTO:+0000
TZNAME:GMT
DTSTART:20271031T010000
END:STANDARD
END:VTIMEZONE
BEGIN:VEVENT
DTSTART;TZID=Europe/London:20260409T140000
DTEND;TZID=Europe/London:20260409T140000
DTSTAMP:20260421T175012
CREATED:20260107T121704Z
LAST-MODIFIED:20260401T094123Z
UID:10000891-1775743200-1775743200@themowlem.com
SUMMARY:The Ultimate Bubble Show
DESCRIPTION:Mowlem Big Weekend – Up Jumped The Crab Puppetry Show				\n				\n				\n				\n									Experience a day at the seaside with this charming puppet story in miniature showing a day at sea with the real Cromer crab fishermen of North Norfolk.Set to the foot-tapping folk music of East Anglian musicians; Bob Roberts\, Tony Hall and Percy Brown\, this wordless piece is a wonderful introduction to the joyful magic of puppet theatre with sing-along opportunities for all! -Running time approx 35 mins  -Suitable for all ages (children must not be left unsupervised) Bio: Crooked Timber Theatre was set up by Gemma Khawaja to create and tour innovative children’s puppet theatre drawing on traditional stories and local heritage. Gemma is an accomplished performer and workshop leader specialising in children’s theatre and puppetry. Upon completing an Honours degree in Drama 2001\, Gemma furthered her skills and training in puppetry by learning traditional puppet making and performance techniques at Norwich Puppet Theatre from 2001-2004. Gemma has over 20 years of professional experience touring to venues\, festivals\, rural settings and schools nationally performing in puppet shows produced by leading companies such as Norwich Puppet Theatre\, Horse & Bamboo Theatre\, Little Angel Theatre. Monstro Theatre & Factory International. Tickets £11 inc booking fee 								\n				\n				\n				\n					\n		\n			31 May\n\n	\n\n	  @  \n\n\n10:30 AM\n\n		\n\n\n\n	\n	  -  \n\n11:00 AM\n\n\n\n	\n				\n				\n				\n				\n									\n					\n						\n									Book Now\n					\n					\n				\n								\n				\n				\n				\n					\n	« All Events\n 				\n				\n				\n				\n				\n					\n	\n				\n				\n					\n				\n				\n						\n					\n			\n						\n				\n							\n			\n						\n		\n						\n				\n				\n						\n					\n			\n						\n				\n					\n	\n\n	Categories:	\n		Community\, Family	\n\n				\n				\n					\n		\n				\n			\n						\n				\n					\n	\n			\n			The Mowlem			\n	\n\n	\n	\n\n	Phone:\n					\n			01929 422239			\n	 \n\n\n	\n\n	Website:View Organiser Website \n\n\n	\n	Email:\n					\n			boxoffice@themowlem.com			\n	 \n\n\n\n				\n				\n					\n		\n					\n		\n				\n				\n					\n	\n	Related Events\n\n\n	\n\n	\n	\n		\n\n		\n			\n	\n		Oscar’s Ultimate Quiz	\n\n\n	22 April @ 8:00 PM - 10:00 PM \n		\n	\n\n\n	\n	\n		\n\n		\n			\n	\n		Purbeck Disco Party Night	\n\n\n	24 April @ 6:30 PM - 9:30 PM \n		\n	\n\n\n	\n	\n		\n\n		\n			\n	\n		SUPERSILLYMAGICSHOW (3-8yrs but suitable for all family members)	\n\n\n	25 April @ 2:00 PM - 3:00 PM \n		\n	\n\n\n				\n				\n				\n						\n					\n			\n						\n				\n					\n				\n				\n	\n			\n		The Studio			\n	\n	\n	\n\nThe Mowlem\n	\n		\n		Swanage\,\n\n	England\n\n	BH19 2AD\n\n	United Kingdom\n\n\n\n\n	+ Google Map \n\n\n	\n					\n			01929 422239			\n	 \n\n\n	\n	View Venue Website \n\n\n\n	\n\n\n\n		\n	\n				\n				\n					\n		\n					\n		\n				\n						\n					\n			\n						\n				\n					\n	\n		\n\n	\n	Add to calendar	\n		\n	\n\n		\n			\n									\n	Google Calendar\n\n									\n	iCalendar\n\n									\n	Outlook 365\n\n									\n	Outlook Live\n\n							\n		\n\n		\n	\n\n				\n				\n					\n		\n					\n		\n				\n						\n					\n			\n						\n				\n					\n	\n		\n\n				Mowlem Big Weekend - Showtunes Karaoke Workshop	\n\n\n		\n	\n		Mowlem Big Weekend - Fisherfolk and Merfolk Puppetry workshop
URL:https://themowlem.com/event/the-ultimate-bubble-show-2/
LOCATION:The Theatre\, The Mowlem\, Swanage\, England\, BH19 2AD\, United Kingdom
CATEGORIES:Family
ATTACH;FMTTYPE=image/jpeg:https://themowlem.com/wp-content/uploads/2026/01/MOWLEM-THEATRE-2026.jpg
ORGANIZER;CN="The Mowlem":MAILTO:boxoffice@themowlem.com
END:VEVENT
BEGIN:VEVENT
DTSTART;TZID=Europe/London:20260403T143000
DTEND;TZID=Europe/London:20260408T143000
DTSTAMP:20260421T175012
CREATED:20260225T110102Z
LAST-MODIFIED:20260408T102718Z
UID:10000933-1775226600-1775658600@themowlem.com
SUMMARY:Zootropolis 2 (PG)
DESCRIPTION:Mowlem Big Weekend – Up Jumped The Crab Puppetry Show				\n				\n				\n				\n									Experience a day at the seaside with this charming puppet story in miniature showing a day at sea with the real Cromer crab fishermen of North Norfolk.Set to the foot-tapping folk music of East Anglian musicians; Bob Roberts\, Tony Hall and Percy Brown\, this wordless piece is a wonderful introduction to the joyful magic of puppet theatre with sing-along opportunities for all! -Running time approx 35 mins  -Suitable for all ages (children must not be left unsupervised) Bio: Crooked Timber Theatre was set up by Gemma Khawaja to create and tour innovative children’s puppet theatre drawing on traditional stories and local heritage. Gemma is an accomplished performer and workshop leader specialising in children’s theatre and puppetry. Upon completing an Honours degree in Drama 2001\, Gemma furthered her skills and training in puppetry by learning traditional puppet making and performance techniques at Norwich Puppet Theatre from 2001-2004. Gemma has over 20 years of professional experience touring to venues\, festivals\, rural settings and schools nationally performing in puppet shows produced by leading companies such as Norwich Puppet Theatre\, Horse & Bamboo Theatre\, Little Angel Theatre. Monstro Theatre & Factory International. Tickets £11 inc booking fee 								\n				\n				\n				\n					\n		\n			31 May\n\n	\n\n	  @  \n\n\n10:30 AM\n\n		\n\n\n\n	\n	  -  \n\n11:00 AM\n\n\n\n	\n				\n				\n				\n				\n									\n					\n						\n									Book Now\n					\n					\n				\n								\n				\n				\n				\n					\n	« All Events\n 				\n				\n				\n				\n				\n					\n	\n				\n				\n					\n				\n				\n						\n					\n			\n						\n				\n							\n			\n						\n		\n						\n				\n				\n						\n					\n			\n						\n				\n					\n	\n\n	Categories:	\n		Community\, Family	\n\n				\n				\n					\n		\n				\n			\n						\n				\n					\n	\n			\n			The Mowlem			\n	\n\n	\n	\n					\n			01929 422239			\n	 \n\n\n	View Organiser Website \n\n\n	\n					\n			boxoffice@themowlem.com			\n	 \n\n\n\n				\n				\n					\n		\n					\n		\n				\n				\n					\n	\n	Related Events\n\n\n	\n\n	\n	\n		\n\n		\n			\n	\n		Oscar’s Ultimate Quiz	\n\n\n	22 April @ 8:00 PM - 10:00 PM \n		\n	\n\n\n	\n	\n		\n\n		\n			\n	\n		Purbeck Disco Party Night	\n\n\n	24 April @ 6:30 PM - 9:30 PM \n		\n	\n\n\n	\n	\n		\n\n		\n			\n	\n		SUPERSILLYMAGICSHOW (3-8yrs but suitable for all family members)	\n\n\n	25 April @ 2:00 PM - 3:00 PM \n		\n	\n\n\n				\n				\n				\n						\n					\n			\n						\n				\n					\n				\n				\n	\n			\n		The Studio			\n	\n	\n	\n\nThe Mowlem\n	\n		\n		Swanage\,\n\n	England\n\n	BH19 2AD\n\n	United Kingdom\n\n\n\n\n	+ Google Map \n\n\n	\n					\n			01929 422239			\n	 \n\n\n	\n	View Venue Website \n\n\n\n	\n\n\n\n		\n	\n				\n				\n					\n		\n					\n		\n				\n						\n					\n			\n						\n				\n					\n	\n		\n\n	\n	Add to calendar	\n		\n	\n\n		\n			\n									\n	Google Calendar\n\n									\n	iCalendar\n\n									\n	Outlook 365\n\n									\n	Outlook Live\n\n							\n		\n\n		\n	\n\n				\n				\n					\n		\n					\n		\n				\n						\n					\n			\n						\n				\n					\n	\n		\n\n				Mowlem Big Weekend - Showtunes Karaoke Workshop	\n\n\n		\n	\n		Mowlem Big Weekend - Fisherfolk and Merfolk Puppetry workshop
URL:https://themowlem.com/event/zootropolis-2-pg/
LOCATION:The Theatre\, The Mowlem\, Swanage\, England\, BH19 2AD\, United Kingdom
CATEGORIES:Cinema,Family
ATTACH;FMTTYPE=image/jpeg:https://themowlem.com/wp-content/uploads/2026/02/Zootropolos-2.jpeg
ORGANIZER;CN="The Mowlem":MAILTO:boxoffice@themowlem.com
END:VEVENT
END:VCALENDAR