BEGIN:VCALENDAR
VERSION:2.0
PRODID:-//The Mowlem - ECPv6.15.17.1//NONSGML v1.0//EN
CALSCALE:GREGORIAN
METHOD:PUBLISH
X-WR-CALNAME:The Mowlem
X-ORIGINAL-URL:https://themowlem.com
X-WR-CALDESC:Events for The Mowlem
REFRESH-INTERVAL;VALUE=DURATION:PT1H
X-Robots-Tag:noindex
X-PUBLISHED-TTL:PT1H
BEGIN:VTIMEZONE
TZID:Europe/London
BEGIN:DAYLIGHT
TZOFFSETFROM:+0000
TZOFFSETTO:+0100
TZNAME:BST
DTSTART:20250330T010000
END:DAYLIGHT
BEGIN:STANDARD
TZOFFSETFROM:+0100
TZOFFSETTO:+0000
TZNAME:GMT
DTSTART:20251026T010000
END:STANDARD
BEGIN:DAYLIGHT
TZOFFSETFROM:+0000
TZOFFSETTO:+0100
TZNAME:BST
DTSTART:20260329T010000
END:DAYLIGHT
BEGIN:STANDARD
TZOFFSETFROM:+0100
TZOFFSETTO:+0000
TZNAME:GMT
DTSTART:20261025T010000
END:STANDARD
BEGIN:DAYLIGHT
TZOFFSETFROM:+0000
TZOFFSETTO:+0100
TZNAME:BST
DTSTART:20270328T010000
END:DAYLIGHT
BEGIN:STANDARD
TZOFFSETFROM:+0100
TZOFFSETTO:+0000
TZNAME:GMT
DTSTART:20271031T010000
END:STANDARD
END:VTIMEZONE
BEGIN:VEVENT
DTSTART;TZID=Europe/London:20261119T193000
DTEND;TZID=Europe/London:20261119T193000
DTSTAMP:20260423T003940
CREATED:20260211T165712Z
LAST-MODIFIED:20260401T092818Z
UID:10000926-1795116600-1795116600@themowlem.com
SUMMARY:Cally Beaton: Namaste Motherf*ckers (16+)
DESCRIPTION:SOM26 This Is Floyd				\n				\n				\n				\n									This Is Floyd is a tribute band faithfully performing songs from the Pink Floyd catalogue from the late 60s to the present day and bringing to stages around the country the flavour of their final gigs played in the late 1980s and early 1990s. As of 2025\, the band’s personnel is made up of 5 to 8 members. Tickets £24 Early Bird\, £25 from 2 March 								\n				\n				\n				\n					\n		\n			8 August\n\n	\n\n	  @  \n\n\n7:30 PM\n\n			\n				\n				\n				\n				\n									Booking Fees Apply 								\n				\n				\n				\n									\n					\n						\n									Book Now\n					\n					\n				\n								\n				\n				\n				\n					\n	« All Events\n 				\n				\n				\n				\n				\n					\n	\n				\n				\n					\n				\n				\n						\n					\n			\n						\n				\n							\n			\n						\n		\n						\n				\n				\n						\n					\n			\n						\n				\n					\n	\n\n	Categories:	\n		Music	\n\n				\n				\n					\n		\n				\n			\n						\n				\n					\n	\n			\n			The Mowlem			\n	\n\n	\n	\n\n	Phone:\n					\n			01929 422239			\n	 \n\n\n	\n\n	Website:View Organiser Website \n\n\n	\n	Email:\n					\n			boxoffice@themowlem.com			\n	 \n\n\n\n				\n				\n					\n		\n					\n		\n				\n				\n					\n	\n	Related Events\n\n\n	\n\n	\n	\n		\n\n		\n			\n	\n		Pop-up Bowie – Live in The Showbar	\n\n\n	23 April @ 7:30 PM - 8:45 PM \n		\n	\n\n\n	\n	\n		\n\n		\n			\n	\n		Sunset Sessions with Jai Danton – Part One: Purobeach	\n\n\n	24 April @ 7:00 PM - 9:00 PM \n		\n	\n\n\n	\n	\n		\n\n		\n			\n	\n		Swing Easy Too – Afternoon Jazz in The Showbar	\n\n\n	25 April @ 2:00 PM - 3:30 PM \n		\n	\n\n\n				\n				\n				\n						\n					\n			\n						\n				\n					\n				\n				\n	\n			\n		The Theatre			\n	\n	\n	\n\nThe Mowlem\n	\n		\n		Swanage\,\n\n	England\n\n	BH19 2AD\n\n	United Kingdom\n\n\n\n\n	+ Google Map \n\n\n	\n					\n			01929 422239			\n	 \n\n\n	\n	View Venue Website \n\n\n\n	\n\n\n\n		\n	\n				\n				\n					\n		\n					\n		\n				\n						\n					\n			\n						\n				\n					\n	\n		\n\n	\n	Add to calendar	\n		\n	\n\n		\n			\n									\n	Google Calendar\n\n									\n	iCalendar\n\n									\n	Outlook 365\n\n									\n	Outlook Live\n\n							\n		\n\n		\n	\n\n				\n				\n					\n		\n					\n		\n				\n						\n					\n			\n						\n				\n					\n	\n		\n\n				Swing Easy Too - Afternoon Jazz in The Showbar	\n\n\n		\n	\n		SOM26 Heard it Through the Grapevine
URL:https://themowlem.com/event/cally-beaton-namaste-motherfckers-16/
LOCATION:The Theatre\, The Mowlem\, Swanage\, England\, BH19 2AD\, United Kingdom
CATEGORIES:Comedy
ATTACH;FMTTYPE=image/png:https://themowlem.com/wp-content/uploads/2026/02/Namaste-1080x1080_250306_1433.png
ORGANIZER;CN="The Mowlem":MAILTO:boxoffice@themowlem.com
END:VEVENT
BEGIN:VEVENT
DTSTART;TZID=Europe/London:20261211T183000
DTEND;TZID=Europe/London:20261211T213000
DTSTAMP:20260423T003940
CREATED:20260306T111810Z
LAST-MODIFIED:20260401T100323Z
UID:10000955-1797013800-1797024600@themowlem.com
SUMMARY:Purbeck Disco Party Night
DESCRIPTION:SOM26 This Is Floyd				\n				\n				\n				\n									This Is Floyd is a tribute band faithfully performing songs from the Pink Floyd catalogue from the late 60s to the present day and bringing to stages around the country the flavour of their final gigs played in the late 1980s and early 1990s. As of 2025\, the band’s personnel is made up of 5 to 8 members. Tickets £24 Early Bird\, £25 from 2 March 								\n				\n				\n				\n					\n		\n			8 August\n\n	\n\n	  @  \n\n\n7:30 PM\n\n			\n				\n				\n				\n				\n									Booking Fees Apply 								\n				\n				\n				\n									\n					\n						\n									Book Now\n					\n					\n				\n								\n				\n				\n				\n					\n	« All Events\n 				\n				\n				\n				\n				\n					\n	\n				\n				\n					\n				\n				\n						\n					\n			\n						\n				\n							\n			\n						\n		\n						\n				\n				\n						\n					\n			\n						\n				\n					\n	\n\n	Categories:	\n		Music	\n\n				\n				\n					\n		\n				\n			\n						\n				\n					\n	\n			\n			The Mowlem			\n	\n\n	\n	\n					\n			01929 422239			\n	 \n\n\n	View Organiser Website \n\n\n	\n					\n			boxoffice@themowlem.com			\n	 \n\n\n\n				\n				\n					\n		\n					\n		\n				\n				\n					\n	\n	Related Events\n\n\n	\n\n	\n	\n		\n\n		\n			\n	\n		Pop-up Bowie – Live in The Showbar	\n\n\n	23 April @ 7:30 PM - 8:45 PM \n		\n	\n\n\n	\n	\n		\n\n		\n			\n	\n		Sunset Sessions with Jai Danton – Part One: Purobeach	\n\n\n	24 April @ 7:00 PM - 9:00 PM \n		\n	\n\n\n	\n	\n		\n\n		\n			\n	\n		Swing Easy Too – Afternoon Jazz in The Showbar	\n\n\n	25 April @ 2:00 PM - 3:30 PM \n		\n	\n\n\n				\n				\n				\n						\n					\n			\n						\n				\n					\n				\n				\n	\n			\n		The Theatre			\n	\n	\n	\n\nThe Mowlem\n	\n		\n		Swanage\,\n\n	England\n\n	BH19 2AD\n\n	United Kingdom\n\n\n\n\n	+ Google Map \n\n\n	\n					\n			01929 422239			\n	 \n\n\n	\n	View Venue Website \n\n\n\n	\n\n\n\n		\n	\n				\n				\n					\n		\n					\n		\n				\n						\n					\n			\n						\n				\n					\n	\n		\n\n	\n	Add to calendar	\n		\n	\n\n		\n			\n									\n	Google Calendar\n\n									\n	iCalendar\n\n									\n	Outlook 365\n\n									\n	Outlook Live\n\n							\n		\n\n		\n	\n\n				\n				\n					\n		\n					\n		\n				\n						\n					\n			\n						\n				\n					\n	\n		\n\n				Swing Easy Too - Afternoon Jazz in The Showbar	\n\n\n		\n	\n		SOM26 Heard it Through the Grapevine
URL:https://themowlem.com/event/purbeck-disco-party-night/2026-12-11/
LOCATION:The Studio\, The Mowlem\, Swanage\, England\, BH19 2AD\, United Kingdom
CATEGORIES:Community
ATTACH;FMTTYPE=image/png:https://themowlem.com/wp-content/uploads/2026/03/Purbeck-Disco-party-final-.png
ORGANIZER;CN="The Mowlem":MAILTO:boxoffice@themowlem.com
END:VEVENT
END:VCALENDAR